BEGIN:VCALENDAR
VERSION:2.0
PRODID:-//ChamberMaster//Event Calendar 2.0//EN
METHOD:PUBLISH
X-PUBLISHED-TTL:P3D
REFRESH-INTERVAL:P3D
CALSCALE:GREGORIAN
BEGIN:VEVENT
DTSTART:20160104T180000Z
DTEND:20160104T190000Z
X-MICROSOFT-CDO-ALLDAYEVENT:FALSE
SUMMARY:SEC Meeting
DESCRIPTION:Special Events Committee Meeting - Lunch will be provided. Agenda:Annual Banquet
X-ALT-DESC;FMTTYPE=text/html:Special Events Committee Meeting - Lunch will be provided. Agenda:Annual Banquet
LOCATION:Chamber Office located at Green Bank 908 E Houston St in Cleveland
UID:e.2539.403
SEQUENCE:3
DTSTAMP:20260420T085153Z
URL:https://business.clevelandtxchamber.com/events/details/sec-meeting-01-04-2016-403
END:VEVENT

END:VCALENDAR
